BEGIN:VCALENDAR
METHOD:PUBLISH
PRODID:-//github.com/rianjs/ical.net//NONSGML ical.net 4.0//EN
VERSION:2.0
X-WR-CALNAME:Lake Youngs PTSA
BEGIN:VEVENT
CREATED:20251208T195336
DTEND:20260417T030000Z
DTSTAMP:20260422T125141Z
DTSTART:20260417T010000Z
LAST-MODIFIED:20251208T195336
SEQUENCE:0
STATUS:CONFIRMED
SUMMARY:PTSA Board Meeting
TRANSP:TRANSPARENT
UID:145007@ourschoolpages.com
END:VEVENT
END:VCALENDAR
