BEGIN:VCALENDAR
METHOD:PUBLISH
PRODID:-//github.com/rianjs/ical.net//NONSGML ical.net 4.0//EN
VERSION:2.0
X-WR-CALNAME:Lake Youngs PTSA
BEGIN:VEVENT
CREATED:20251208T195312
DTEND;VALUE=DATE:20260408
DTSTAMP:20260420T144326Z
DTSTART;VALUE=DATE:20260407
LAST-MODIFIED:20251208T195312
SEQUENCE:0
STATUS:CONFIRMED
SUMMARY:Dave and Busters Vendor Night
TRANSP:TRANSPARENT
UID:145006@ourschoolpages.com
END:VEVENT
END:VCALENDAR
